BEGIN:VCALENDAR
VERSION:2.0
PRODID:-//Wanda//NONSGML Wanda//EN
METHOD:PUBLISH
BEGIN:VEVENT
UID:20260423T114727Z-1183692525-www.wandamusik.com
URL:https://www.wandamusik.com/dates/wanda-dates-2362022-ch-thun-cholerer-4--67-.html
DTSTAMP:20260423T114727Z
DTSTART:20220623T160000Z
DTEND:20220623T160000Z
SUMMARY:WANDA | Dates | 23.6.2022 (CH) Thun\, Cholere­rock Open Air
DESCRIPTION:For tickets and more Wanda-dates check https://www.wandamusik.com/dates/
LOCATION:Cholere­rock Open Air\, Thun\, Switzerland
END:VEVENT
END:VCALENDAR
