BEGIN:VCALENDAR
VERSION:2.0
PRODID:-//Wanda//NONSGML Wanda//EN
METHOD:PUBLISH
BEGIN:VEVENT
UID:20260422T134738Z-834351125-www.wandamusik.com
URL:https://www.wandamusik.com/dates/wanda-dates-1352022-de-regensburg-do-4--56-.html
DTSTAMP:20260422T134738Z
DTSTART:20220513T160000Z
DTEND:20220513T160000Z
SUMMARY:WANDA | Dates | 13.5.2022 (DE) Regensburg\, Donau-Arena (NACHHOLTERMIN 2020/21)
DESCRIPTION:For tickets and more Wanda-dates check https://www.wandamusik.com/dates/
LOCATION:Donau-Arena (NACHHOLTERMIN 2020/21)\, Regensburg\, Germany
END:VEVENT
END:VCALENDAR
