BEGIN:VCALENDAR
VERSION:2.0
PRODID:-//Wanda//NONSGML Wanda//EN
METHOD:PUBLISH
BEGIN:VEVENT
UID:20260421T135447Z-762536181-www.wandamusik.com
URL:https://www.wandamusik.com/dates/wanda-dates-452024-de-muenster-jovel-6--117-.html
DTSTAMP:20260421T135447Z
DTSTART:20240504T180000Z
DTEND:20240504T180000Z
SUMMARY:WANDA | Dates | 4.5.2024 (DE) Münster\, Jovel
DESCRIPTION:For tickets and more Wanda-dates check https://www.wandamusik.com/dates/
LOCATION:Jovel\, Münster\, Germany
END:VEVENT
END:VCALENDAR
