BEGIN:VCALENDAR
VERSION:2.0
PRODID:-//Wanda//NONSGML Wanda//EN
METHOD:PUBLISH
BEGIN:VEVENT
UID:20260426T042601Z-449657658-www.wandamusik.com
URL:https://www.wandamusik.com/dates/wanda-dates-1972024-at-graz-freiluft-6--104-.html
DTSTAMP:20260426T042601Z
DTSTART:20240719T180000Z
DTEND:20240719T180500Z
SUMMARY:WANDA | Dates | 19.7.2024 (AT) Graz\, Freiluftarena B
DESCRIPTION:For tickets and more Wanda-dates check https://www.wandamusik.com/dates/
LOCATION:Freiluftarena B\, Graz\, Austria
END:VEVENT
END:VCALENDAR
